BEGIN:VCALENDAR
VERSION:2.0
PRODID:-//East Bay Meditation Center - ECPv6.15.5//NONSGML v1.0//EN
CALSCALE:GREGORIAN
METHOD:PUBLISH
X-ORIGINAL-URL:https://eastbaymeditation.org
X-WR-CALDESC:Events for East Bay Meditation Center
REFRESH-INTERVAL;VALUE=DURATION:PT1H
X-Robots-Tag:noindex
X-PUBLISHED-TTL:PT1H
BEGIN:VTIMEZONE
TZID:America/Los_Angeles
BEGIN:DAYLIGHT
TZOFFSETFROM:-0800
TZOFFSETTO:-0700
TZNAME:PDT
DTSTART:20170312T100000
END:DAYLIGHT
BEGIN:STANDARD
TZOFFSETFROM:-0700
TZOFFSETTO:-0800
TZNAME:PST
DTSTART:20171105T090000
END:STANDARD
BEGIN:DAYLIGHT
TZOFFSETFROM:-0800
TZOFFSETTO:-0700
TZNAME:PDT
DTSTART:20180311T100000
END:DAYLIGHT
BEGIN:STANDARD
TZOFFSETFROM:-0700
TZOFFSETTO:-0800
TZNAME:PST
DTSTART:20181104T090000
END:STANDARD
END:VTIMEZONE
BEGIN:VEVENT
DTSTART;TZID=America/Los_Angeles:20171203T100000
DTEND;TZID=America/Los_Angeles:20171203T163000
DTSTAMP:20260419T220537
CREATED:20170914T221923Z
LAST-MODIFIED:20170914T222623Z
UID:10004962-1512295200-1512318600@eastbaymeditation.org
SUMMARY:Curriculum: Path of the Bodhisattva (3/3)
DESCRIPTION:Path of the Bodhisattva & Bodhisattva Precepts Ceremony\n \nBuddhist curriculum\, Fall 2017 \nwith Mushim Ikeda\, EBMC core teacher \nThis new Buddhist curriculum at EBMC has three components: \n\n A four-class series:  Path of the Bodhisattva 1\nWednesdays\, Oct 4\, 11\, 18\, 25: 7 – 9pm\n\nRegistration now open \n\nA three-class series:  Path of the Bodhisattva 2\nWednesdays\, Nov 1\, 8\, 17: 7 – 9pm\n\nRegistration now open \n\nDaylong: Receiving or Witnessing the Bodhisattva Precepts & Vows\nDecember 3: 10am – 4:30pm\n\nRegistration now open \nI\, myself\, took the Bodhisattva Vows and made the vow\, “Life after life\, after life\, after life\, I will continue my practice and continue my work.” – Bhante Suhita Dharma\, Buddhist monk and social worker\, 1941-2013 \nIn Mahayana Buddhism\, the Bodhisattva is an archetypal great being who tirelessly and joyfully works to liberate all beings from suffering. For the first time\, EBMC will offer two class series exploring what it means to creatively embody the Bodhisattva teachings. Those who complete both class series may participate in the final daylong and either witness or take Bodhisattva precepts and vows in order to strengthen their commitment to collective liberation. These are the same vows taken by His Holiness the Dalai Lama. \nAlso\, those who do not wish to take the Bodhisattva vows may take either of the two class series. The final daylong is open to everyone who wishes to witness the joyful ceremony (you do not need to have taken any of the previous classes\, though it is recommended that you do so) and those who have completed the previous classes and have received permission from the teacher may receive the Bodhisattva Precepts\, take the Bodhisattva Vows\, and at that time they will receive a Buddhist name from the teacher.  Meditation (instruction provided for beginners)\, Dharma talks\, and interactive exercises. Questions: email admin@eastbaymeditation.org \nMushim (Patricia) Ikeda received Bodhisattva precepts and vows in Toronto\, Canada in 1983. She is an EBMC core teacher\, a widely-published writer\, and a social justice activist. Mushim has practiced as both a monastic and a lay householder.  For events\, writing\, video teachings\, go to www.mushimikeda.com \nCost: There is no registration fee for attending this event\, nor most EBMC events.  However\, EBMC is not independently funded. The Center and the teachers will be sustained only by your voluntary donations (the practice of generous giving\, or “dana”). Please donate generously\, in proportion to your ability: \n* Either online (you will be offered an opportunity during the online registration process to donate to EBMC; the teachers will NOT receive any part of this online donation)\n* Or at the event\, in the two baskets at EBMC\, one for the Center\, the second for the Teacher \nThank you for your generosity.  EBMC will be only be sustained through our collective generosity. \nFragrance-free: In order to protect the health of community members with environmental illness\, please do not wear fragranced products (including “natural” fragrances) or clothes laundered in fragranced products to EBMC. \n  EBMC is wheelchair accessible.
URL:https://eastbaymeditation.org/calendar/curriculum-path-of-the-bodhisattva-33/
LOCATION:East Bay Meditation Center\, 285 17th Street\, Oakland\, CA\, 94612\, United States
CATEGORIES:Classes
ATTACH;FMTTYPE=image/jpeg:https://eastbaymeditation.org/wp-content/uploads/2017/09/bigstock-160823378.jpg
GEO:37.8050656;-122.2660299
X-APPLE-STRUCTURED-LOCATION;VALUE=URI;X-ADDRESS=East Bay Meditation Center 285 17th Street Oakland CA 94612 United States;X-APPLE-RADIUS=500;X-TITLE=285 17th Street:geo:-122.2660299,37.8050656
END:VEVENT
BEGIN:VEVENT
DTSTART;TZID=America/Los_Angeles:20171206T183000
DTEND;TZID=America/Los_Angeles:20171206T203000
DTSTAMP:20260419T220537
CREATED:20170815T222729Z
LAST-MODIFIED:20170818T230249Z
UID:10004953-1512585000-1512592200@eastbaymeditation.org
SUMMARY:EBMC Teen Sangha: Fall 2017
DESCRIPTION:EBMC Teen Sangha – Fall 2017 \nWednesdays: September 6 – December 6 (no meeting on November 22)\n6:30 pm – 8:30 pm \nOpen to teens\, ages 14-19 \nEBMC Teen Sangha is a weekly meditation group for teens\, ages 14-19. Our focus will be on creating deeper relationships with ourselves and each other\, having fun\, getting real and supporting each other. Learn mindfulness meditation and explore the dharma (Buddhist teachings) in creative and practical ways. No experience necessary. We are committed to maintaining a Sangha (community) that is welcoming to people of all identities\, cultures\, beliefs and ways of being. \nLed by the EBMC Teen Sangha Team: Raúl Kahlil Betancourt\, Anthony “T” Maes\, Sarwang Parikh\, Adrienne Price\, Syra Smith\, and Phoenix Soleil \nRegistration: Registration is encouraged and space is limited. Click here or the link below to register. \nhttps://eastbaymeditation.org/ebmcreg/?event=sept17teen \nCost: There is no registration fee for attending this event\, nor most EBMC events.  However\, EBMC is not independently funded. The Center and the teachers will be sustained only by your voluntary donations (the practice of generous giving\, or “dana”). Please donate generously\, in proportion to your ability: \n* Either online (you will be offered an opportunity during the online registration process)\n* Or at the event\, in the two baskets at EBMC\, one for the Center\, the second for the Teacher \nThank you for your generosity.  EBMC will be only be sustained through our collective generosity. \nFragrance-free: In order to protect the health of community members with environmental illness\, please do not wear fragranced products (including “natural” fragrances) or clothes laundered in fragranced products to EBMC. \nEBMC is wheelchair accessible. \nRaúl Kahlil Betancourt began his buddhist studies when he was 16 in L.A. and has been studying steadily since. He has studied Vietnamese Zen in LA and Soto Zen in Santa Cruz and SF as well as Green Gulch and Tassajara. He spent a year as a personal student to a head instructor from Eijeiji\, at his home temple in Japan. He also earned a black belt in Aikido. He eventually found his spiritual home at EBMC in Oakland. He is currently teaching science at a high school in SF where he is also a teacher meditation leader. \nAnthony “T” Maes was born and raised in the East Bay. He has practiced Buddhist meditation since 2003 including long retreats and living in a monastery in Thailand. He has volunteered on many teen meditation retreats since 2009 where he enjoys leading mixed-heritage liberation\, relational mindfulness\, and acrobalance. “T” graduated from UC Berkeley in 2004\, completed the yearlong Commit2Dharma program at EBMC in 2011\, and is a graduate of the Heart Mind Curriculum mindfulness teacher training program. \nSarwang Parikh is a Marriage and Family Therapist Intern who has worked with young people for over a decade. He has meditated and practiced yoga for the past 10 years. He is currently a part of Spirit Rock’s Dedicated Practitioner Program and EBMC’s Men of Color Deep Refuge group. Sarwang has worked therapeutically with young people across cultures and around the world in a variety of therapeutic\, school-based and community settings. He currently provides holistic counseling\, leads mindfulness groups\, and facilitates trainings on mindfulness in education with Seeds-of-Awareness.org. Sarwang is passionately committed to integrating social change and personal healing through practicing mindfulness and developing relationships. \nAdrienne Price is an educator\, cultural producer\, and social justice organizer living in Oakland\, CA. Since she discovered Dharma practice in 2008\, she has worked to deepen her learning. She looks forward to co-leading her first Teen Sangha through EBMC this summer. She has worked as a high school teacher and currently coordinates an education non-profit. She also organizes with SURJ (Standing Up for Racial Justice) and the Bay Area Childcare Collective. She hosts a weekly radio show on Radio Valencia entitled Pure Pop for Queer Lovers (Sundays 10am-12:00pm\, www.radiovalencia.fm). \nSyra Smith is an engaged artist\, activist\, community organizer\, sharing cultivator and mindfulness educator interested in deep ecology and manifesting a culture where we can turn toward fearless abundance and generosity. Syra has been educating and working with young people for over 15 years. A lifetime meditator\, she completed EBMC’s Commit to Dharma program in 2011 and is participating in a two year non-monastic ordination and lineage teaching program under the guidance of Venerable Pannavati Bhikkuni. In addition to co-leading EBMC’s Teen Sangha\, she has joined the team at the Mind Body Awareness Project\, providing transformational tools to at-risk and incarcerated youth. \nPhoenix Soleil is an artist and trainer committed to creating more fun\, authenticity and compassion in our society. She is a teacher and practitioner of the Vipassanna meditation tradition.  She is also a teacher and practitioner of Nonviolent Communication (NVC)\, a form of compassionate communication that supports us to attune to our feelings and values. Whenever possible she invokes her background in conscious dance\, Laughter Yoga\, acting\, and the expressive arts to build healthy\, authentic\, joyful\, and engaged communities of all ages.
URL:https://eastbaymeditation.org/calendar/ebmc-teen-sangha-fall-2017/2017-12-06/
LOCATION:East Bay Meditation Center\, 285 17th Street\, Oakland\, CA\, 94612\, United States
CATEGORIES:Classes
ATTACH;FMTTYPE=image/jpeg:https://eastbaymeditation.org/wp-content/uploads/2016/09/logo.jpg
GEO:37.8050656;-122.2660299
X-APPLE-STRUCTURED-LOCATION;VALUE=URI;X-ADDRESS=East Bay Meditation Center 285 17th Street Oakland CA 94612 United States;X-APPLE-RADIUS=500;X-TITLE=285 17th Street:geo:-122.2660299,37.8050656
END:VEVENT
BEGIN:VEVENT
DTSTART;TZID=America/Los_Angeles:20171231T180000
DTEND;TZID=America/Los_Angeles:20180101T003000
DTSTAMP:20260419T220537
CREATED:20171207T022103Z
LAST-MODIFIED:20171207T022103Z
UID:10006032-1514743200-1514766600@eastbaymeditation.org
SUMMARY:New Year's Eve Community Meditation
DESCRIPTION:You are invited to welcome the New Year in community at East Bay Meditation Center’s Annual New Year’s Eve Meditation & Potluck. Let’s practice together and welcome the New Year that awaits us. \nNYE Schedule*: \n\n6:00PM Circling Round with Gratitude and Aspirations**\n7:30PM Community Potluck\n8:30PM Meditation\n9:00PM Music\, “10 Years of EBMC” Interactive Exhibit\n9:30PM Guided Movement with Music\n10:15PM Introduction to EBMC. “Who Are We?”\n11:00PM Dharma Talk\n11:30PM Meditation\nBell Ringing and Dedication of Merit at Midnight\n\n*Schedule Subject to Change. \nRegister HERE or by clicking this link: https://eastbaymeditation.org/ebmcreg/?event=dec17newyearmeditation \n**Circling Round with Gratitude and Aspirations is presented by the Restorative Practices for Dharma Practitioners Sangha\, from 6PM – 7:30PM. You are invited to join the circle to create grounding energy for the EBMC New Year’s celebration. Gathering in community circle\, we will honor the traditions of our ancestors\, sharing our gratitude and personal aspirations for the ongoing life of EBMC. We commit to respecting each voice in the circle. RSVP’d requested.
URL:https://eastbaymeditation.org/calendar/new-years-eve-community-meditation-2/
LOCATION:East Bay Meditation Center\, 285 17th Street\, Oakland\, CA\, 94612\, United States
CATEGORIES:Classes
ATTACH;FMTTYPE=image/jpeg:https://eastbaymeditation.org/wp-content/uploads/2017/12/ahmed-saffu-357231.jpg
GEO:37.8050656;-122.2660299
X-APPLE-STRUCTURED-LOCATION;VALUE=URI;X-ADDRESS=East Bay Meditation Center 285 17th Street Oakland CA 94612 United States;X-APPLE-RADIUS=500;X-TITLE=285 17th Street:geo:-122.2660299,37.8050656
END:VEVENT
END:VCALENDAR