BEGIN:VCALENDAR
VERSION:2.0
PRODID:-//East Bay Meditation Center - ECPv6.15.5//NONSGML v1.0//EN
CALSCALE:GREGORIAN
METHOD:PUBLISH
X-WR-CALNAME:East Bay Meditation Center
X-ORIGINAL-URL:https://eastbaymeditation.org
X-WR-CALDESC:Events for East Bay Meditation Center
REFRESH-INTERVAL;VALUE=DURATION:PT1H
X-Robots-Tag:noindex
X-PUBLISHED-TTL:PT1H
BEGIN:VTIMEZONE
TZID:UTC
BEGIN:STANDARD
TZOFFSETFROM:+0000
TZOFFSETTO:+0000
TZNAME:UTC
DTSTART:20160101T000000
END:STANDARD
END:VTIMEZONE
BEGIN:VTIMEZONE
TZID:America/Los_Angeles
BEGIN:DAYLIGHT
TZOFFSETFROM:-0800
TZOFFSETTO:-0700
TZNAME:PDT
DTSTART:20160313T100000
END:DAYLIGHT
BEGIN:STANDARD
TZOFFSETFROM:-0700
TZOFFSETTO:-0800
TZNAME:PST
DTSTART:20161106T090000
END:STANDARD
END:VTIMEZONE
BEGIN:VEVENT
DTSTART;TZID=UTC:20160803T190000
DTEND;TZID=UTC:20160803T203000
DTSTAMP:20260420T215015
CREATED:20160527T102716Z
LAST-MODIFIED:20160812T104400Z
UID:10004564-1470250800-1470256200@eastbaymeditation.org
SUMMARY:EBMC Teen Sangha: Summer 2016
DESCRIPTION:Wednesdays: July 6 – August 24\, 2016\n7:00 pm – 8:30 pm \nOpen to teens\, ages 14-19 \nLed by the EBMC Teen Sangha Team: Raúl Kahlil Betancourt\, Anthony “T” Maes\, Sarwang Parikh\, Adrienne Price\, Syra Smith\, and Phoenix Soleil \nEBMC Teen Sangha is a weekly meditation group for teens\, ages 14-19. Our focus will be on creating deeper relationships with ourselves and each other\, having fun\, getting real and supporting each other. Learn mindfulness meditation and explore the dharma (Buddhist teachings) in creative and practical ways. No experience necessary. We are committed to maintaining a Sangha (community) that is welcoming to people of all identities\, cultures\, beliefs and ways of being. \nRegistration: Registration is encouraged and space is limited. Click here or the link below to register. \nhttp://eastbaymeditation.org/ebmcreg/?event=summerteen \nCost: There is no registration fee for attending this event\, nor most EBMC events. However\, EBMC is not independently funded. The Center and the teachers will be sustained only by your voluntary donations (the practice of generous giving\, or “dana”). Please donate generously\, in proportion to your ability: \n* Either online (you will be offered an opportunity during the online registration process)\n* Or at the event\, in the two baskets at EBMC\, one for the Center\, the second for the Teacher \nThank you for your generosity. EBMC will be only be sustained through our collective generosity. \nFragrance-free: In order to protect the health of community members with environmental illness\, please do not wear fragranced products (including “natural” fragrances) or clothes laundered in fragranced products to EBMC. \nEBMC is wheelchair accessible.
URL:https://eastbaymeditation.org/calendar/ebmc-teen-sangha-summer-2016/2016-08-03/
LOCATION:East Bay Meditation Center\, 285 17th Street\, Oakland\, CA\, 94612\, United States
CATEGORIES:Classes
ATTACH;FMTTYPE=image/jpeg:https://eastbaymeditation.org/wp-content/uploads/2016/07/bigstock-Red-canvas-valentine-heart-in-84564374.jpg
GEO:37.8050656;-122.2660299
X-APPLE-STRUCTURED-LOCATION;VALUE=URI;X-ADDRESS=East Bay Meditation Center 285 17th Street Oakland CA 94612 United States;X-APPLE-RADIUS=500;X-TITLE=285 17th Street:geo:-122.2660299,37.8050656
END:VEVENT
BEGIN:VEVENT
DTSTART;TZID=UTC:20160810T190000
DTEND;TZID=UTC:20160810T203000
DTSTAMP:20260420T215015
CREATED:20160527T102716Z
LAST-MODIFIED:20160812T104400Z
UID:10004565-1470855600-1470861000@eastbaymeditation.org
SUMMARY:EBMC Teen Sangha: Summer 2016
DESCRIPTION:Wednesdays: July 6 – August 24\, 2016\n7:00 pm – 8:30 pm \nOpen to teens\, ages 14-19 \nLed by the EBMC Teen Sangha Team: Raúl Kahlil Betancourt\, Anthony “T” Maes\, Sarwang Parikh\, Adrienne Price\, Syra Smith\, and Phoenix Soleil \nEBMC Teen Sangha is a weekly meditation group for teens\, ages 14-19. Our focus will be on creating deeper relationships with ourselves and each other\, having fun\, getting real and supporting each other. Learn mindfulness meditation and explore the dharma (Buddhist teachings) in creative and practical ways. No experience necessary. We are committed to maintaining a Sangha (community) that is welcoming to people of all identities\, cultures\, beliefs and ways of being. \nRegistration: Registration is encouraged and space is limited. Click here or the link below to register. \nhttp://eastbaymeditation.org/ebmcreg/?event=summerteen \nCost: There is no registration fee for attending this event\, nor most EBMC events. However\, EBMC is not independently funded. The Center and the teachers will be sustained only by your voluntary donations (the practice of generous giving\, or “dana”). Please donate generously\, in proportion to your ability: \n* Either online (you will be offered an opportunity during the online registration process)\n* Or at the event\, in the two baskets at EBMC\, one for the Center\, the second for the Teacher \nThank you for your generosity. EBMC will be only be sustained through our collective generosity. \nFragrance-free: In order to protect the health of community members with environmental illness\, please do not wear fragranced products (including “natural” fragrances) or clothes laundered in fragranced products to EBMC. \nEBMC is wheelchair accessible.
URL:https://eastbaymeditation.org/calendar/ebmc-teen-sangha-summer-2016/2016-08-10/
LOCATION:East Bay Meditation Center\, 285 17th Street\, Oakland\, CA\, 94612\, United States
CATEGORIES:Classes
ATTACH;FMTTYPE=image/jpeg:https://eastbaymeditation.org/wp-content/uploads/2016/07/bigstock-Red-canvas-valentine-heart-in-84564374.jpg
GEO:37.8050656;-122.2660299
X-APPLE-STRUCTURED-LOCATION;VALUE=URI;X-ADDRESS=East Bay Meditation Center 285 17th Street Oakland CA 94612 United States;X-APPLE-RADIUS=500;X-TITLE=285 17th Street:geo:-122.2660299,37.8050656
END:VEVENT
BEGIN:VEVENT
DTSTART;TZID=UTC:20160817T190000
DTEND;TZID=UTC:20160817T203000
DTSTAMP:20260420T215015
CREATED:20160527T102716Z
LAST-MODIFIED:20160812T104400Z
UID:10004566-1471460400-1471465800@eastbaymeditation.org
SUMMARY:EBMC Teen Sangha: Summer 2016
DESCRIPTION:Wednesdays: July 6 – August 24\, 2016\n7:00 pm – 8:30 pm \nOpen to teens\, ages 14-19 \nLed by the EBMC Teen Sangha Team: Raúl Kahlil Betancourt\, Anthony “T” Maes\, Sarwang Parikh\, Adrienne Price\, Syra Smith\, and Phoenix Soleil \nEBMC Teen Sangha is a weekly meditation group for teens\, ages 14-19. Our focus will be on creating deeper relationships with ourselves and each other\, having fun\, getting real and supporting each other. Learn mindfulness meditation and explore the dharma (Buddhist teachings) in creative and practical ways. No experience necessary. We are committed to maintaining a Sangha (community) that is welcoming to people of all identities\, cultures\, beliefs and ways of being. \nRegistration: Registration is encouraged and space is limited. Click here or the link below to register. \nhttp://eastbaymeditation.org/ebmcreg/?event=summerteen \nCost: There is no registration fee for attending this event\, nor most EBMC events. However\, EBMC is not independently funded. The Center and the teachers will be sustained only by your voluntary donations (the practice of generous giving\, or “dana”). Please donate generously\, in proportion to your ability: \n* Either online (you will be offered an opportunity during the online registration process)\n* Or at the event\, in the two baskets at EBMC\, one for the Center\, the second for the Teacher \nThank you for your generosity. EBMC will be only be sustained through our collective generosity. \nFragrance-free: In order to protect the health of community members with environmental illness\, please do not wear fragranced products (including “natural” fragrances) or clothes laundered in fragranced products to EBMC. \nEBMC is wheelchair accessible.
URL:https://eastbaymeditation.org/calendar/ebmc-teen-sangha-summer-2016/2016-08-17/
LOCATION:East Bay Meditation Center\, 285 17th Street\, Oakland\, CA\, 94612\, United States
CATEGORIES:Classes
ATTACH;FMTTYPE=image/jpeg:https://eastbaymeditation.org/wp-content/uploads/2016/07/bigstock-Red-canvas-valentine-heart-in-84564374.jpg
GEO:37.8050656;-122.2660299
X-APPLE-STRUCTURED-LOCATION;VALUE=URI;X-ADDRESS=East Bay Meditation Center 285 17th Street Oakland CA 94612 United States;X-APPLE-RADIUS=500;X-TITLE=285 17th Street:geo:-122.2660299,37.8050656
END:VEVENT
BEGIN:VEVENT
DTSTART;TZID=UTC:20160824T190000
DTEND;TZID=UTC:20160824T203000
DTSTAMP:20260420T215015
CREATED:20160527T102716Z
LAST-MODIFIED:20160812T104400Z
UID:10004567-1472065200-1472070600@eastbaymeditation.org
SUMMARY:EBMC Teen Sangha: Summer 2016
DESCRIPTION:Wednesdays: July 6 – August 24\, 2016\n7:00 pm – 8:30 pm \nOpen to teens\, ages 14-19 \nLed by the EBMC Teen Sangha Team: Raúl Kahlil Betancourt\, Anthony “T” Maes\, Sarwang Parikh\, Adrienne Price\, Syra Smith\, and Phoenix Soleil \nEBMC Teen Sangha is a weekly meditation group for teens\, ages 14-19. Our focus will be on creating deeper relationships with ourselves and each other\, having fun\, getting real and supporting each other. Learn mindfulness meditation and explore the dharma (Buddhist teachings) in creative and practical ways. No experience necessary. We are committed to maintaining a Sangha (community) that is welcoming to people of all identities\, cultures\, beliefs and ways of being. \nRegistration: Registration is encouraged and space is limited. Click here or the link below to register. \nhttp://eastbaymeditation.org/ebmcreg/?event=summerteen \nCost: There is no registration fee for attending this event\, nor most EBMC events. However\, EBMC is not independently funded. The Center and the teachers will be sustained only by your voluntary donations (the practice of generous giving\, or “dana”). Please donate generously\, in proportion to your ability: \n* Either online (you will be offered an opportunity during the online registration process)\n* Or at the event\, in the two baskets at EBMC\, one for the Center\, the second for the Teacher \nThank you for your generosity. EBMC will be only be sustained through our collective generosity. \nFragrance-free: In order to protect the health of community members with environmental illness\, please do not wear fragranced products (including “natural” fragrances) or clothes laundered in fragranced products to EBMC. \nEBMC is wheelchair accessible.
URL:https://eastbaymeditation.org/calendar/ebmc-teen-sangha-summer-2016/2016-08-24/
LOCATION:East Bay Meditation Center\, 285 17th Street\, Oakland\, CA\, 94612\, United States
CATEGORIES:Classes
ATTACH;FMTTYPE=image/jpeg:https://eastbaymeditation.org/wp-content/uploads/2016/07/bigstock-Red-canvas-valentine-heart-in-84564374.jpg
GEO:37.8050656;-122.2660299
X-APPLE-STRUCTURED-LOCATION;VALUE=URI;X-ADDRESS=East Bay Meditation Center 285 17th Street Oakland CA 94612 United States;X-APPLE-RADIUS=500;X-TITLE=285 17th Street:geo:-122.2660299,37.8050656
END:VEVENT
BEGIN:VEVENT
DTSTART;TZID=America/Los_Angeles:20160825T080000
DTEND;TZID=America/Los_Angeles:20160825T170000
DTSTAMP:20260420T215015
CREATED:20160825T034916Z
LAST-MODIFIED:20160825T035707Z
UID:10004905-1472112000-1472144400@eastbaymeditation.org
SUMMARY:Mindfulness and Aging: Claiming our Eldership & Wisdom
DESCRIPTION:Sunday\, September 11\, 2016\n1:30 pm – 5:00 pm \nHalf-day retreat for self-identified women and gender-fluid people \nWith Noliwe Alexander and Arinna Weisman \nHow do we open to aging; the loss of physical resilience\, perhaps increasing illness\, the decline of our mental faculties and memory? The Buddha offers us a path of mindfulness and loving kindness that challenges the habitual ways we have ‘owned’ or ‘identified’ with our bodies and minds\, and that allows us to join the natural processes of nature and our planet earth. Join us as we claim our eldership and wisdom\, which have come with our years lived\, and the blessings these bring.
URL:https://eastbaymeditation.org/calendar/mindfulness-and-aging-claiming-our-eldership-wisdom/
LOCATION:East Bay Meditation Center\, 285 17th Street\, Oakland\, CA\, 94612\, United States
CATEGORIES:Classes
ATTACH;FMTTYPE=image/jpeg:https://eastbaymeditation.org/wp-content/uploads/2016/08/bigstock-Symbol-of-born-to-death-in-Bud-56105531.jpg
GEO:37.8050656;-122.2660299
X-APPLE-STRUCTURED-LOCATION;VALUE=URI;X-ADDRESS=East Bay Meditation Center 285 17th Street Oakland CA 94612 United States;X-APPLE-RADIUS=500;X-TITLE=285 17th Street:geo:-122.2660299,37.8050656
END:VEVENT
END:VCALENDAR