BEGIN:VCALENDAR
VERSION:2.0
PRODID:-//East Bay Meditation Center - ECPv6.15.5//NONSGML v1.0//EN
CALSCALE:GREGORIAN
METHOD:PUBLISH
X-WR-CALNAME:East Bay Meditation Center
X-ORIGINAL-URL:https://eastbaymeditation.org
X-WR-CALDESC:Events for East Bay Meditation Center
REFRESH-INTERVAL;VALUE=DURATION:PT1H
X-Robots-Tag:noindex
X-PUBLISHED-TTL:PT1H
BEGIN:VTIMEZONE
TZID:America/Los_Angeles
BEGIN:DAYLIGHT
TZOFFSETFROM:-0800
TZOFFSETTO:-0700
TZNAME:PDT
DTSTART:20230312T100000
END:DAYLIGHT
BEGIN:STANDARD
TZOFFSETFROM:-0700
TZOFFSETTO:-0800
TZNAME:PST
DTSTART:20231105T090000
END:STANDARD
END:VTIMEZONE
BEGIN:VEVENT
DTSTART;TZID=America/Los_Angeles:20231119T100000
DTEND;TZID=America/Los_Angeles:20231119T160000
DTSTAMP:20260421T073435
CREATED:20231102T003035Z
LAST-MODIFIED:20231117T020407Z
UID:10008341-1700388000-1700409600@eastbaymeditation.org
SUMMARY:IN PERSON: Transgender and Gender Diverse Metta Daylong
DESCRIPTION:Daylong – Sunday\, November 19th \n10am – 4pm PT (Time Zone Converter)  \nIN PERSON at EBMC \nJoin us on the eve of Transgender Day of Remembrance for a heartfelt and empowering event\, designed to honor and celebrate the transgender community while nurturing our own well-being. \nIn observance of the Transgender Day of Remembrance\, we invite you to a special gathering that offers a unique blend of meditation and movements. This event is not only an opportunity to pay tribute to those we have lost but also to explore and embrace self-care practices that can enhance our lives. \nThis day of practice is open to individuals of all backgrounds and identities. Our experienced Trans* identified facilitators and allies will lead and hold the space\, ensuring a supportive environment for all participants. \n \n  \nTeacher Bios \n \nFresh “Lev” White\, CPCC\, is a Certified Professional\, Mindfulness & Life Coach. He has been practicing Mindfulness since 2007\, and is currently a student of Spirit Rock’s Dharma Leadership Program. In addition to Co-leading the Teen Sangha at EBMC\, Fresh! is also a rotating teacher at the Oakland Asian Cultural Center\, and leads a group for Trans* and Gender Variant folks in Oakland as well. Fresh! earned his Early Childhood Education Credits at Skyline College when he committed to being a classroom assistant and volunteer back in the 90s. Since 2003\, Fresh! has facilitated or co-lead over 100 discussions in San Francisco and Marin\, in schools and workplaces\, with a goal of ending bullying for all\, with a focus on creating safety for the LBGTQI communities. \n  \n \nRabbi Dev Noily lives on the unceded land of the Lisjan Ohlone People\, in an area commonly known as Oakland\, California\, Dev is Senior Rabbi of Kehilla Community Synagogue which includes over 500 member households and is part of local and national networks of multifaith organizing and spiritually-rooted activism focused on racial\, environmental and economic justice. \nDev is also the co-founder of Jews On Ohlone Land\, activating the Jewish community in solidarity with Indigenous sovereignty. They serve on the board of the Interfaith Council of Alameda County and are a current Schusterman Fellow empowering Jewish leaders to drive positive change. \nPreviously\, Dev served as a Spiritual Director for the Reconstructionist Rabbinical College; as a facilitator for difficult conversations among Jews about the Israeli-Palestinian conflict; as an advocate for LGBTQ civil rights and religious inclusion; and as a Chaplain for Jewish Family & Children’s Service of Philadelphia. \n  \n \n\nRiya Christie was born and raised in Jamaica\, and moved to the United States where she started her transition. She has ran workshops around safe sex practice\, HIV/AIDS\, and other STIs\, doing outreach to vulnerable communities including LGBT people\, sex workers\, drug users\, and others. In 2016\, She graced the cover of See Me: Transforming NYC’s Homeless Youth\, a book by a renowned NYC photographer\, Alex Fradkin\, in collaboration with the Reciprocity foundation – a nonprofit organization that helps homeless youth. \nRiya made herself very vulnerable because she wanted society to pay attention to disenfranchised communities and take affirmative action. In 2017\, she was a panelist at the LGBTQ+ Career Conference 2017: Strategies for Thriving During and Beyond Berkeley\, and spoke about the additional challenges transgender and gender non-conforming individuals often have to navigate while looking for work or advancing their careers. She also performed at Transgender Day of Visibility along with her sister and Momma’s Boyz. Riya now is at the San Francisco LGBT Center helping to connect people with the tools they need to be able to successfully sustain themselves. \n\n  \n  \n  \nThis will be an in person class\, where participants are asked to use an N95 or KN95 mask. Instructors are given the option to be unmasked while speaking into a microphone. For those wishing to practice in person\, space will be limited to 40 people to allow ample space for social distancing. N95 face masks will be available at EBMC. \nTo attend in person\, you need to be completely free of fragranced body and clothing products — more information and a list of fragrance free products\, including those that are especially good for people of color\, appears on our website: \nhttps://eastbaymeditation.org/resources/fragrance-free-at-ebmc/ \nEast Bay Meditation Center is a scent free / fragrance free space and is wheelchair accessible. \nCost: The teachings are regarded as priceless\, so they are offered without a fee. You are invited to support the teachings and our efforts by contributing voluntary donations \nTo offer a gift to support the teachings\, please do so through Venmo: freshencounter\, PayPal: fresh@affirmativeacts.org\, or CashApp: $FreshWhite \nFunds will be split by the teachers \nTo make a gift to sustain the work of East Bay Meditation Center\, please do so via Paypal: paypal.me/eastbaymeditation or our website: eastbaymeditation.org/dana 100% of our programming is sliding scale and no one will ever be turned away for lack of funds. Thank you for the gifts of your generosity and for supporting the work of East Bay Meditation Center and our beloved teachers who have volunteered their time.  \n  \n 
URL:https://eastbaymeditation.org/calendar/in-person-transgender-and-gender-diverse-metta-daylong/
LOCATION:East Bay Meditation Center\, 285 17th Street\, Oakland\, CA\, 94612\, United States
CATEGORIES:Classes,In-Person Only
ATTACH;FMTTYPE=image/png:https://eastbaymeditation.org/wp-content/uploads/2023/11/Transgender-and-Gender-Diverse-Metta-Daylong-845-x-321-px.png
GEO:37.8050656;-122.2660299
X-APPLE-STRUCTURED-LOCATION;VALUE=URI;X-ADDRESS=East Bay Meditation Center 285 17th Street Oakland CA 94612 United States;X-APPLE-RADIUS=500;X-TITLE=285 17th Street:geo:-122.2660299,37.8050656
END:VEVENT
BEGIN:VEVENT
DTSTART;TZID=America/Los_Angeles:20231116T110000
DTEND;TZID=America/Los_Angeles:20231116T130000
DTSTAMP:20260421T073435
CREATED:20231102T070018Z
LAST-MODIFIED:20231102T070601Z
UID:10008356-1700132400-1700139600@eastbaymeditation.org
SUMMARY:IN PERSON: Meditation for Peace Drop-in
DESCRIPTION:Tuesdays and Thursdays in November (7\, 9\, 14\, 16\, 21\, 23\, 28\, 30) \n11 AM to 1 PM PT\n \nIn Person Only \nYou’re invited to drop in for open practice time at EBMC and sit or lie in the Main Temple. We have a variety of cushions and chairs available. Host Ramón Honea will ring the bell every half hour. Our Library and Compassion Room will be available for use. You may also enjoy a cup of tea in our Kitchen. \n\nIn person participants are asked to use an N95 or KN95 mask. For those wishing to practice in person\, space will be limited to 40 people to allow ample space for social distancing. N95 face masks will be available at EBMC. See our complete Safety and COVID guidelines here: https://eastbaymeditation.org/covid-19-updates/\n \nTo attend in person\, you need to be completely free of fragranced body and clothing products — more information and a list of fragrance free products\, including those that are especially good for people of color\, appears on our website: \nhttps://eastbaymeditation.org/resources/fragrance-free-at-ebmc/ \nEast Bay Meditation Center is a scent free / fragrance free space and is wheelchair accessible. \n\nTo make a gift to sustain the work of East Bay Meditation Center\, please do so via Paypal: paypal.me/eastbaymeditation or our website: eastbaymeditation.org/dana 100% of our programming is sliding scale and no one will ever be turned away for lack of funds. Thank you for the gifts of your generosity and for supporting the work of East Bay Meditation Center and our beloved teachers who have volunteered their time.  \n 
URL:https://eastbaymeditation.org/calendar/in-person-meditation-for-peace-drop-in/2023-11-16/
LOCATION:East Bay Meditation Center\, 285 17th Street\, Oakland\, CA\, 94612\, United States
CATEGORIES:In-Person Only
GEO:37.8050656;-122.2660299
X-APPLE-STRUCTURED-LOCATION;VALUE=URI;X-ADDRESS=East Bay Meditation Center 285 17th Street Oakland CA 94612 United States;X-APPLE-RADIUS=500;X-TITLE=285 17th Street:geo:-122.2660299,37.8050656
END:VEVENT
BEGIN:VEVENT
DTSTART;TZID=America/Los_Angeles:20231114T110000
DTEND;TZID=America/Los_Angeles:20231114T130000
DTSTAMP:20260421T073435
CREATED:20231102T070018Z
LAST-MODIFIED:20231102T070601Z
UID:10008355-1699959600-1699966800@eastbaymeditation.org
SUMMARY:IN PERSON: Meditation for Peace Drop-in
DESCRIPTION:Tuesdays and Thursdays in November (7\, 9\, 14\, 16\, 21\, 23\, 28\, 30) \n11 AM to 1 PM PT\n \nIn Person Only \nYou’re invited to drop in for open practice time at EBMC and sit or lie in the Main Temple. We have a variety of cushions and chairs available. Host Ramón Honea will ring the bell every half hour. Our Library and Compassion Room will be available for use. You may also enjoy a cup of tea in our Kitchen. \n\nIn person participants are asked to use an N95 or KN95 mask. For those wishing to practice in person\, space will be limited to 40 people to allow ample space for social distancing. N95 face masks will be available at EBMC. See our complete Safety and COVID guidelines here: https://eastbaymeditation.org/covid-19-updates/\n \nTo attend in person\, you need to be completely free of fragranced body and clothing products — more information and a list of fragrance free products\, including those that are especially good for people of color\, appears on our website: \nhttps://eastbaymeditation.org/resources/fragrance-free-at-ebmc/ \nEast Bay Meditation Center is a scent free / fragrance free space and is wheelchair accessible. \n\nTo make a gift to sustain the work of East Bay Meditation Center\, please do so via Paypal: paypal.me/eastbaymeditation or our website: eastbaymeditation.org/dana 100% of our programming is sliding scale and no one will ever be turned away for lack of funds. Thank you for the gifts of your generosity and for supporting the work of East Bay Meditation Center and our beloved teachers who have volunteered their time.  \n 
URL:https://eastbaymeditation.org/calendar/in-person-meditation-for-peace-drop-in/2023-11-14/
LOCATION:East Bay Meditation Center\, 285 17th Street\, Oakland\, CA\, 94612\, United States
CATEGORIES:In-Person Only
GEO:37.8050656;-122.2660299
X-APPLE-STRUCTURED-LOCATION;VALUE=URI;X-ADDRESS=East Bay Meditation Center 285 17th Street Oakland CA 94612 United States;X-APPLE-RADIUS=500;X-TITLE=285 17th Street:geo:-122.2660299,37.8050656
END:VEVENT
BEGIN:VEVENT
DTSTART;TZID=America/Los_Angeles:20231109T110000
DTEND;TZID=America/Los_Angeles:20231109T130000
DTSTAMP:20260421T073435
CREATED:20231102T070018Z
LAST-MODIFIED:20231102T070601Z
UID:10008354-1699527600-1699534800@eastbaymeditation.org
SUMMARY:IN PERSON: Meditation for Peace Drop-in
DESCRIPTION:Tuesdays and Thursdays in November (7\, 9\, 14\, 16\, 21\, 23\, 28\, 30) \n11 AM to 1 PM PT\n \nIn Person Only \nYou’re invited to drop in for open practice time at EBMC and sit or lie in the Main Temple. We have a variety of cushions and chairs available. Host Ramón Honea will ring the bell every half hour. Our Library and Compassion Room will be available for use. You may also enjoy a cup of tea in our Kitchen. \n\nIn person participants are asked to use an N95 or KN95 mask. For those wishing to practice in person\, space will be limited to 40 people to allow ample space for social distancing. N95 face masks will be available at EBMC. See our complete Safety and COVID guidelines here: https://eastbaymeditation.org/covid-19-updates/\n \nTo attend in person\, you need to be completely free of fragranced body and clothing products — more information and a list of fragrance free products\, including those that are especially good for people of color\, appears on our website: \nhttps://eastbaymeditation.org/resources/fragrance-free-at-ebmc/ \nEast Bay Meditation Center is a scent free / fragrance free space and is wheelchair accessible. \n\nTo make a gift to sustain the work of East Bay Meditation Center\, please do so via Paypal: paypal.me/eastbaymeditation or our website: eastbaymeditation.org/dana 100% of our programming is sliding scale and no one will ever be turned away for lack of funds. Thank you for the gifts of your generosity and for supporting the work of East Bay Meditation Center and our beloved teachers who have volunteered their time.  \n 
URL:https://eastbaymeditation.org/calendar/in-person-meditation-for-peace-drop-in/2023-11-09/
LOCATION:East Bay Meditation Center\, 285 17th Street\, Oakland\, CA\, 94612\, United States
CATEGORIES:In-Person Only
GEO:37.8050656;-122.2660299
X-APPLE-STRUCTURED-LOCATION;VALUE=URI;X-ADDRESS=East Bay Meditation Center 285 17th Street Oakland CA 94612 United States;X-APPLE-RADIUS=500;X-TITLE=285 17th Street:geo:-122.2660299,37.8050656
END:VEVENT
BEGIN:VEVENT
DTSTART;TZID=America/Los_Angeles:20231107T110000
DTEND;TZID=America/Los_Angeles:20231107T130000
DTSTAMP:20260421T073435
CREATED:20231102T070018Z
LAST-MODIFIED:20231102T070601Z
UID:10008353-1699354800-1699362000@eastbaymeditation.org
SUMMARY:IN PERSON: Meditation for Peace Drop-in
DESCRIPTION:Tuesdays and Thursdays in November (7\, 9\, 14\, 16\, 21\, 23\, 28\, 30) \n11 AM to 1 PM PT\n \nIn Person Only \nYou’re invited to drop in for open practice time at EBMC and sit or lie in the Main Temple. We have a variety of cushions and chairs available. Host Ramón Honea will ring the bell every half hour. Our Library and Compassion Room will be available for use. You may also enjoy a cup of tea in our Kitchen. \n\nIn person participants are asked to use an N95 or KN95 mask. For those wishing to practice in person\, space will be limited to 40 people to allow ample space for social distancing. N95 face masks will be available at EBMC. See our complete Safety and COVID guidelines here: https://eastbaymeditation.org/covid-19-updates/\n \nTo attend in person\, you need to be completely free of fragranced body and clothing products — more information and a list of fragrance free products\, including those that are especially good for people of color\, appears on our website: \nhttps://eastbaymeditation.org/resources/fragrance-free-at-ebmc/ \nEast Bay Meditation Center is a scent free / fragrance free space and is wheelchair accessible. \n\nTo make a gift to sustain the work of East Bay Meditation Center\, please do so via Paypal: paypal.me/eastbaymeditation or our website: eastbaymeditation.org/dana 100% of our programming is sliding scale and no one will ever be turned away for lack of funds. Thank you for the gifts of your generosity and for supporting the work of East Bay Meditation Center and our beloved teachers who have volunteered their time.  \n 
URL:https://eastbaymeditation.org/calendar/in-person-meditation-for-peace-drop-in/2023-11-07/
LOCATION:East Bay Meditation Center\, 285 17th Street\, Oakland\, CA\, 94612\, United States
CATEGORIES:In-Person Only
GEO:37.8050656;-122.2660299
X-APPLE-STRUCTURED-LOCATION;VALUE=URI;X-ADDRESS=East Bay Meditation Center 285 17th Street Oakland CA 94612 United States;X-APPLE-RADIUS=500;X-TITLE=285 17th Street:geo:-122.2660299,37.8050656
END:VEVENT
BEGIN:VEVENT
DTSTART;TZID=America/Los_Angeles:20231105T100000
DTEND;TZID=America/Los_Angeles:20231105T160000
DTSTAMP:20260421T073435
CREATED:20231011T194046Z
LAST-MODIFIED:20231011T195414Z
UID:10009471-1699178400-1699200000@eastbaymeditation.org
SUMMARY:IN PERSON: Ancestors Welcome Here DAYLONG: Healing White Supremacy
DESCRIPTION:  \nIN PERSON: Ancestors Welcome Here DAYLONG: Healing White Supremacy (for white people) \nwith Ream and Sara Oakes \nSunday\, Nov 5th\, 2023\n \n10am- 4pm PT  \nWhite people*: We need all the help we can get. Working at the level of the body\, we will welcome our well ancestors of blood and bone to extend their blessings to us\, and to give us their full support and backing in our efforts to end white supremacy in our lifetimes. \nWe all come from people who lived in interdependence with each other and connection with the Earth. This class invites a reconnection to our lineages through practicing meditation\, healing and repair\, so that we can know ourselves and our inherent belonging more deeply. \n*For self-identified white people. If you identify as white and are committed to racial justice\, this class is for you. \n \n  \n\nThis is an in person event where in person participants are asked to use an N95 or KN95 mask. Instructors are given the option to be unmasked while speaking into a microphone. For those wishing to practice in person\, space will be limited to 40 people to allow ample space for social distancing. N95 face masks will be available at EBMC. \nWe also ask all participants to be free of fragranced products — more information and a list of fragrance free products\, including those that are especially good for people of color\, appears on our website: \nhttps://eastbaymeditation.org/resources/fragrance-free-at-ebmc/ \nTeacher Bios: \n \nReam\, pronouns: She/They. Ream is a queer organizer and somatics practitioner of European ancestry currently in Oakland\, CA\, organizing for economic and racial justice and immigrants’ rights\, working for over 25 years in the labor movement and currently as the Strategic Campaigns Director for the United Domestic Workers’ Union. Ream is a graduate of EBMC’s PITA and WAS programs and is a co-founder of the Social Justice Sangha. Ream is a practitioner with Generative Somatics\, teaching “Somatics for White Racial Justice Organizers” and holds trauma healing groups with activists and movement leaders. \n  \n \nSara began her spiritual practice in the path of yoga and devotional chanting in 2000 when she also started training in dance and the healing arts. She has practiced in the Insight Meditation tradition since 2004 attending regular retreats with teachers in the U.S.A.\, Europe\, India and Myanmar. She is a graduate of both the Dedicated Practitioners and the Community Dharma Leader Programs at Spirit Rock Meditation Center. She has a private practice in Craniosacral therapy\, Organic Intelligence\, and Somatic Experiencing trauma resolution for people of all ages in the East Bay. website: https://saraoakes.com/
URL:https://eastbaymeditation.org/calendar/in-person-ancestors-welcome-here-daylong-healing-white-supremacy/
LOCATION:East Bay Meditation Center\, 285 17th Street\, Oakland\, CA\, 94612\, United States
CATEGORIES:Classes,In-Person Only
ATTACH;FMTTYPE=image/png:https://eastbaymeditation.org/wp-content/uploads/2023/10/2.png
GEO:37.8050656;-122.2660299
X-APPLE-STRUCTURED-LOCATION;VALUE=URI;X-ADDRESS=East Bay Meditation Center 285 17th Street Oakland CA 94612 United States;X-APPLE-RADIUS=500;X-TITLE=285 17th Street:geo:-122.2660299,37.8050656
END:VEVENT
BEGIN:VEVENT
DTSTART;TZID=America/Los_Angeles:20231022T100000
DTEND;TZID=America/Los_Angeles:20231022T130000
DTSTAMP:20260421T073435
CREATED:20230823T234417Z
LAST-MODIFIED:20230830T043433Z
UID:10009455-1697968800-1697979600@eastbaymeditation.org
SUMMARY:IN PERSON: Meditation & Movement: Creating Space in Your Body & Your Life
DESCRIPTION:Meditation & Movement: Creating Space in Your Body & Your Life\nRESCHEDULED to Sunday\, October 22\, 2023 \n10:00AM – 1:00PM PT (Time Zone Converter) \nEast Bay Meditation Center at Snow Park\, 19th Street & Harrison Street \n(One block from EBMC\, three blocks from the 19th Street BART station) \nUsing practice\, demonstrations\, and discussions\, this retreat will use meditation and movement to explore how to create and maintain greater mindfulness and spiritual balance throughout the day. Simple meditation techniques are taught for a range of practitioners\, especially beginners. Movements embodying the Five Elements are taught standing\, sitting and reclining\, and are appropriate for people with diverse abilities. This retreat will be held at Snow Park\, so bring a water bottle\, a snack and a blanket to sit on. The park is highly shaded from many trees\, and bathrooms are available. Because this is an outdoor event\, masks are optional\, but social distancing is encouraged. \n \nTeacher Bios:\n \n\nMushim Patricia Ikeda is an internationally-known secular mindfulness and Buddhist teacher working primarily with justice activists and Black\, Indigenous and People of Color (BIPOC) meditation practitioners. A core teacher at East Bay Meditation Center in Oakland\, California\, she is an author whose writing has been published in Lion’s Roar\, Tricycle\, Buddhadharma and various anthologies. She is the founding and guiding teacher of EBMC’s Practice in Transformative Action\, a yearlong program now in its ninth year\, providing secular mindfulness training for justice activists and agents of change. Mushim was selected by Lion’s Roar Buddhist media magazine as one of twenty-six “Great Buddhist Teachers” in the January 2022 issue. If you would like to make a gift to our beloved teacher\, please do so via Venmo: @MushimPatricia-Ikeda or PayPal: info@mushimikeda.com\n\n  \n \nMaster John W. Ellis IV is a martial artist with more than 35 years of experience in helping people strengthen the connections between the body\, mind and spirit. He teaches toddlers\, youth\, adults\, senior citizens\, athletes\, the physically challenged\, and autistic children. He has more than 40 years of meditation practice in Christian\, Zen\, Vipassana and New Thought traditions; and has written about martial arts\, spirituality\, and alternative health for major media. Master Ellis leads Ananda Martial Arts and Fitness Academy in Oakland\, where he teaches traditional martial arts\, self-defense and Five Realms Meditative Movement
URL:https://eastbaymeditation.org/calendar/in-person-meditation-movement-creating-space-in-your-body-your-life-2/
LOCATION:Snow Park
CATEGORIES:Classes,In-Person Only
ATTACH;FMTTYPE=image/png:https://eastbaymeditation.org/wp-content/uploads/2023/08/meditation-and-movement-oct-2023-website.png
END:VEVENT
BEGIN:VEVENT
DTSTART;TZID=America/Los_Angeles:20230806T100000
DTEND;TZID=America/Los_Angeles:20230806T120000
DTSTAMP:20260421T073435
CREATED:20230721T233327Z
LAST-MODIFIED:20230722T000238Z
UID:10009448-1691316000-1691323200@eastbaymeditation.org
SUMMARY:IN-PERSON: Reconnecting with Sacred for BIMPOC
DESCRIPTION:10AM – 12PM Sunday\, August 6th 2023 \nOnsite at East Bay Meditation Center \nAn on-site\, half-day program for self-identified BIMPOC (Black\, Indigenous\, Multiracial\, People(s) of Color) with Carol Cano\, Antoinette González\, Ramón Honea\, and Andrés González.  \nJoin us for a morning of sacred reconnection: reconnecting with self\, community\, ancestors\, our precious Earth\, and our beloved spiritual home\, East Bay Meditation Center. Over the past several years\, we’ve endured much and all too often in isolation. During our time together\, we will invite in the experience of ritual\, earth-based practices\, guided meditation\, and a community talking circle to support us in returning to what we uniquely consider sacred. Whether that is our relationship to Mother Earth\, our Ancestors\, or the “Three Jewels” (Buddha\, Dharma\, and Sangha)\, we will explore what it means to reconnect with the sacred in our everyday lives. \nFollowing the program\, we invite you to join us for a brown-bag lunch\, 12-1PM at Snow Park where there will be unstructured time to further (re)connect with one another. \nThis program is suitable for both new and experienced meditators and is open to self-identified BIMPOC (Black\, Indigenous\, Multiracial\, People(s) of Color). \nPlease note: With the intention of inviting sangha on-site once again at EBMC\, this program will not be held in hybrid format; however\, we will record core parts of the event to be shared with attendees and those who register to receive a recording-only following the program. \n \n  \n\n\nSpace is limited & registration is required. \nCost: The teachings are regarded as priceless. So they are offered without a fee. You are invited to support the teachings and our efforts by contributing voluntary donations (the practice of “Dana”) for the expenses of the meditation center and the support of the teachers. \nTo make a gift to sustain the work of East Bay Meditation Center\, please do so via Paypal: paypal.me/eastbaymeditation or our website: eastbaymeditation.org/dana 100% of our programming is sliding scale and no one will ever be turned away for lack of funds. Thank you for the gifts of your generosity and for supporting the work of East Bay Meditation Center and our beloved teachers who have volunteered their time.  \nParticipants will be asked to wear N95 or KN95 face masks and be fully vaccinated against covid19\, which at this time means having received the covid bivalent booster no less than two weeks before the event. (N95 face masks will be available at EBMC.) \nTo attend in person\, you need to be completely free of fragranced body and clothing products — more information and a list of fragrance free products\, including those that are especially good for people of color\, appears on our website: \n\nFragrance Free \n\nEast Bay Meditation Center is a scent free / fragrance free space and is wheelchair accessible. \n\n\n  \n  \n 
URL:https://eastbaymeditation.org/calendar/reconnecting-with-sacred/
LOCATION:East Bay Meditation Center\, 285 17th Street\, Oakland\, CA\, 94612\, United States
CATEGORIES:Classes,In-Person Only
ATTACH;FMTTYPE=image/png:https://eastbaymeditation.org/wp-content/uploads/2023/07/Reconnecting-with-Sacred-for-BIMPOC-2160-×-1080-px-845-×-321-px.png
GEO:37.8050656;-122.2660299
X-APPLE-STRUCTURED-LOCATION;VALUE=URI;X-ADDRESS=East Bay Meditation Center 285 17th Street Oakland CA 94612 United States;X-APPLE-RADIUS=500;X-TITLE=285 17th Street:geo:-122.2660299,37.8050656
END:VEVENT
END:VCALENDAR