BEGIN:VCALENDAR
VERSION:2.0
PRODID:-//East Bay Meditation Center - ECPv6.15.5//NONSGML v1.0//EN
CALSCALE:GREGORIAN
METHOD:PUBLISH
X-ORIGINAL-URL:https://eastbaymeditation.org
X-WR-CALDESC:Events for East Bay Meditation Center
REFRESH-INTERVAL;VALUE=DURATION:PT1H
X-Robots-Tag:noindex
X-PUBLISHED-TTL:PT1H
BEGIN:VTIMEZONE
TZID:America/Los_Angeles
BEGIN:DAYLIGHT
TZOFFSETFROM:-0800
TZOFFSETTO:-0700
TZNAME:PDT
DTSTART:20250309T100000
END:DAYLIGHT
BEGIN:STANDARD
TZOFFSETFROM:-0700
TZOFFSETTO:-0800
TZNAME:PST
DTSTART:20251102T090000
END:STANDARD
END:VTIMEZONE
BEGIN:VEVENT
DTSTART;TZID=America/Los_Angeles:20250202T160000
DTEND;TZID=America/Los_Angeles:20250202T180000
DTSTAMP:20260420T131238
CREATED:20241015T162219Z
LAST-MODIFIED:20241218T000044Z
UID:10010333-1738512000-1738519200@eastbaymeditation.org
SUMMARY:Center Open Hours
DESCRIPTION:We welcome you to drop by the center for unguided silent practice\, our library\, or a cup of tea in our kitchen. \nwith EBMC Staff \nSundays \n4 – 6 PM Pacific Time \nEBMC is a fragrance-free center and is wheelchair accessible. N95/KN95 masks required. \nNote: Due to capacity limitations of our small staff\, we may occasionally need to shorten or cancel open hours.  We will do our best to give as much advanced notice as possible.  Thank you for your understanding.
URL:https://eastbaymeditation.org/calendar/center-open-hours-3/2025-02-02/
LOCATION:East Bay Meditation Center\, 285 17th Street\, Oakland\, CA\, 94612\, United States
CATEGORIES:In-Person Only
GEO:37.8050656;-122.2660299
X-APPLE-STRUCTURED-LOCATION;VALUE=URI;X-ADDRESS=East Bay Meditation Center 285 17th Street Oakland CA 94612 United States;X-APPLE-RADIUS=500;X-TITLE=285 17th Street:geo:-122.2660299,37.8050656
END:VEVENT
BEGIN:VEVENT
DTSTART;TZID=America/Los_Angeles:20250204T110000
DTEND;TZID=America/Los_Angeles:20250204T130000
DTSTAMP:20260420T131238
CREATED:20240813T181815Z
LAST-MODIFIED:20250703T040131Z
UID:10010239-1738666800-1738674000@eastbaymeditation.org
SUMMARY:Center Open Hours
DESCRIPTION:We welcome you to drop by the center for unguided silent practice\, our library\, or a cup of tea in our kitchen. \nwith EBMC Staff \nDaytime: Tuesday & Thursday \n11 AM – 1 PM Pacific Time \nEBMC is a fragrance-free center and is wheelchair accessible. N95/KN95 masks required. \nNote: Due to capacity limitations of our small staff\, we may occasionally need to shorten or cancel open hours.  We will do our best to give as much advanced notice as possible.  Thank you for your understanding.
URL:https://eastbaymeditation.org/calendar/center-open-hours/2025-02-04/
LOCATION:East Bay Meditation Center\, 285 17th Street\, Oakland\, CA\, 94612\, United States
CATEGORIES:In-Person Only
GEO:37.8050656;-122.2660299
X-APPLE-STRUCTURED-LOCATION;VALUE=URI;X-ADDRESS=East Bay Meditation Center 285 17th Street Oakland CA 94612 United States;X-APPLE-RADIUS=500;X-TITLE=285 17th Street:geo:-122.2660299,37.8050656
END:VEVENT
BEGIN:VEVENT
DTSTART;TZID=America/Los_Angeles:20250206T110000
DTEND;TZID=America/Los_Angeles:20250206T130000
DTSTAMP:20260420T131238
CREATED:20240813T182009Z
LAST-MODIFIED:20250703T040956Z
UID:10010282-1738839600-1738846800@eastbaymeditation.org
SUMMARY:Center Open Hours
DESCRIPTION:We welcome you to drop by the center for unguided silent practice\, our library\, or a cup of tea in our kitchen. \nwith EBMC Staff \nDaytime: Tuesday & Thursday \n11 AM – 1 PM Pacific Time \nEBMC is a fragrance-free center and is wheelchair accessible. N95/KN95 masks required. \nNote: Due to capacity limitations of our small staff\, we may occasionally need to shorten or cancel open hours.  We will do our best to give as much advanced notice as possible.  Thank you for your understanding.
URL:https://eastbaymeditation.org/calendar/center-open-hours-2/2025-02-06/
LOCATION:East Bay Meditation Center\, 285 17th Street\, Oakland\, CA\, 94612\, United States
CATEGORIES:In-Person Only
GEO:37.8050656;-122.2660299
X-APPLE-STRUCTURED-LOCATION;VALUE=URI;X-ADDRESS=East Bay Meditation Center 285 17th Street Oakland CA 94612 United States;X-APPLE-RADIUS=500;X-TITLE=285 17th Street:geo:-122.2660299,37.8050656
END:VEVENT
BEGIN:VEVENT
DTSTART;TZID=America/Los_Angeles:20250209T160000
DTEND;TZID=America/Los_Angeles:20250209T180000
DTSTAMP:20260420T131238
CREATED:20241015T162219Z
LAST-MODIFIED:20241218T000044Z
UID:10010334-1739116800-1739124000@eastbaymeditation.org
SUMMARY:Center Open Hours
DESCRIPTION:We welcome you to drop by the center for unguided silent practice\, our library\, or a cup of tea in our kitchen. \nwith EBMC Staff \nSundays \n4 – 6 PM Pacific Time \nEBMC is a fragrance-free center and is wheelchair accessible. N95/KN95 masks required. \nNote: Due to capacity limitations of our small staff\, we may occasionally need to shorten or cancel open hours.  We will do our best to give as much advanced notice as possible.  Thank you for your understanding.
URL:https://eastbaymeditation.org/calendar/center-open-hours-3/2025-02-09/
LOCATION:East Bay Meditation Center\, 285 17th Street\, Oakland\, CA\, 94612\, United States
CATEGORIES:In-Person Only
GEO:37.8050656;-122.2660299
X-APPLE-STRUCTURED-LOCATION;VALUE=URI;X-ADDRESS=East Bay Meditation Center 285 17th Street Oakland CA 94612 United States;X-APPLE-RADIUS=500;X-TITLE=285 17th Street:geo:-122.2660299,37.8050656
END:VEVENT
BEGIN:VEVENT
DTSTART;TZID=America/Los_Angeles:20250211T110000
DTEND;TZID=America/Los_Angeles:20250211T130000
DTSTAMP:20260420T131238
CREATED:20240813T181815Z
LAST-MODIFIED:20250703T040131Z
UID:10010240-1739271600-1739278800@eastbaymeditation.org
SUMMARY:Center Open Hours
DESCRIPTION:We welcome you to drop by the center for unguided silent practice\, our library\, or a cup of tea in our kitchen. \nwith EBMC Staff \nDaytime: Tuesday & Thursday \n11 AM – 1 PM Pacific Time \nEBMC is a fragrance-free center and is wheelchair accessible. N95/KN95 masks required. \nNote: Due to capacity limitations of our small staff\, we may occasionally need to shorten or cancel open hours.  We will do our best to give as much advanced notice as possible.  Thank you for your understanding.
URL:https://eastbaymeditation.org/calendar/center-open-hours/2025-02-11/
LOCATION:East Bay Meditation Center\, 285 17th Street\, Oakland\, CA\, 94612\, United States
CATEGORIES:In-Person Only
GEO:37.8050656;-122.2660299
X-APPLE-STRUCTURED-LOCATION;VALUE=URI;X-ADDRESS=East Bay Meditation Center 285 17th Street Oakland CA 94612 United States;X-APPLE-RADIUS=500;X-TITLE=285 17th Street:geo:-122.2660299,37.8050656
END:VEVENT
BEGIN:VEVENT
DTSTART;TZID=America/Los_Angeles:20250213T110000
DTEND;TZID=America/Los_Angeles:20250213T130000
DTSTAMP:20260420T131238
CREATED:20240813T182009Z
LAST-MODIFIED:20250703T040956Z
UID:10010283-1739444400-1739451600@eastbaymeditation.org
SUMMARY:Center Open Hours
DESCRIPTION:We welcome you to drop by the center for unguided silent practice\, our library\, or a cup of tea in our kitchen. \nwith EBMC Staff \nDaytime: Tuesday & Thursday \n11 AM – 1 PM Pacific Time \nEBMC is a fragrance-free center and is wheelchair accessible. N95/KN95 masks required. \nNote: Due to capacity limitations of our small staff\, we may occasionally need to shorten or cancel open hours.  We will do our best to give as much advanced notice as possible.  Thank you for your understanding.
URL:https://eastbaymeditation.org/calendar/center-open-hours-2/2025-02-13/
LOCATION:East Bay Meditation Center\, 285 17th Street\, Oakland\, CA\, 94612\, United States
CATEGORIES:In-Person Only
GEO:37.8050656;-122.2660299
X-APPLE-STRUCTURED-LOCATION;VALUE=URI;X-ADDRESS=East Bay Meditation Center 285 17th Street Oakland CA 94612 United States;X-APPLE-RADIUS=500;X-TITLE=285 17th Street:geo:-122.2660299,37.8050656
END:VEVENT
BEGIN:VEVENT
DTSTART;TZID=America/Los_Angeles:20250216T160000
DTEND;TZID=America/Los_Angeles:20250216T180000
DTSTAMP:20260420T131238
CREATED:20241015T162219Z
LAST-MODIFIED:20241218T000044Z
UID:10010335-1739721600-1739728800@eastbaymeditation.org
SUMMARY:Center Open Hours
DESCRIPTION:We welcome you to drop by the center for unguided silent practice\, our library\, or a cup of tea in our kitchen. \nwith EBMC Staff \nSundays \n4 – 6 PM Pacific Time \nEBMC is a fragrance-free center and is wheelchair accessible. N95/KN95 masks required. \nNote: Due to capacity limitations of our small staff\, we may occasionally need to shorten or cancel open hours.  We will do our best to give as much advanced notice as possible.  Thank you for your understanding.
URL:https://eastbaymeditation.org/calendar/center-open-hours-3/2025-02-16/
LOCATION:East Bay Meditation Center\, 285 17th Street\, Oakland\, CA\, 94612\, United States
CATEGORIES:In-Person Only
GEO:37.8050656;-122.2660299
X-APPLE-STRUCTURED-LOCATION;VALUE=URI;X-ADDRESS=East Bay Meditation Center 285 17th Street Oakland CA 94612 United States;X-APPLE-RADIUS=500;X-TITLE=285 17th Street:geo:-122.2660299,37.8050656
END:VEVENT
BEGIN:VEVENT
DTSTART;TZID=America/Los_Angeles:20250218T110000
DTEND;TZID=America/Los_Angeles:20250218T130000
DTSTAMP:20260420T131238
CREATED:20240813T181815Z
LAST-MODIFIED:20250703T040131Z
UID:10010241-1739876400-1739883600@eastbaymeditation.org
SUMMARY:Center Open Hours
DESCRIPTION:We welcome you to drop by the center for unguided silent practice\, our library\, or a cup of tea in our kitchen. \nwith EBMC Staff \nDaytime: Tuesday & Thursday \n11 AM – 1 PM Pacific Time \nEBMC is a fragrance-free center and is wheelchair accessible. N95/KN95 masks required. \nNote: Due to capacity limitations of our small staff\, we may occasionally need to shorten or cancel open hours.  We will do our best to give as much advanced notice as possible.  Thank you for your understanding.
URL:https://eastbaymeditation.org/calendar/center-open-hours/2025-02-18/
LOCATION:East Bay Meditation Center\, 285 17th Street\, Oakland\, CA\, 94612\, United States
CATEGORIES:In-Person Only
GEO:37.8050656;-122.2660299
X-APPLE-STRUCTURED-LOCATION;VALUE=URI;X-ADDRESS=East Bay Meditation Center 285 17th Street Oakland CA 94612 United States;X-APPLE-RADIUS=500;X-TITLE=285 17th Street:geo:-122.2660299,37.8050656
END:VEVENT
BEGIN:VEVENT
DTSTART;TZID=America/Los_Angeles:20250220T110000
DTEND;TZID=America/Los_Angeles:20250220T130000
DTSTAMP:20260420T131238
CREATED:20240813T182009Z
LAST-MODIFIED:20250703T040956Z
UID:10010284-1740049200-1740056400@eastbaymeditation.org
SUMMARY:Center Open Hours
DESCRIPTION:We welcome you to drop by the center for unguided silent practice\, our library\, or a cup of tea in our kitchen. \nwith EBMC Staff \nDaytime: Tuesday & Thursday \n11 AM – 1 PM Pacific Time \nEBMC is a fragrance-free center and is wheelchair accessible. N95/KN95 masks required. \nNote: Due to capacity limitations of our small staff\, we may occasionally need to shorten or cancel open hours.  We will do our best to give as much advanced notice as possible.  Thank you for your understanding.
URL:https://eastbaymeditation.org/calendar/center-open-hours-2/2025-02-20/
LOCATION:East Bay Meditation Center\, 285 17th Street\, Oakland\, CA\, 94612\, United States
CATEGORIES:In-Person Only
GEO:37.8050656;-122.2660299
X-APPLE-STRUCTURED-LOCATION;VALUE=URI;X-ADDRESS=East Bay Meditation Center 285 17th Street Oakland CA 94612 United States;X-APPLE-RADIUS=500;X-TITLE=285 17th Street:geo:-122.2660299,37.8050656
END:VEVENT
BEGIN:VEVENT
DTSTART;TZID=America/Los_Angeles:20250223T160000
DTEND;TZID=America/Los_Angeles:20250223T180000
DTSTAMP:20260420T131238
CREATED:20241015T162219Z
LAST-MODIFIED:20241218T000044Z
UID:10010336-1740326400-1740333600@eastbaymeditation.org
SUMMARY:Center Open Hours
DESCRIPTION:We welcome you to drop by the center for unguided silent practice\, our library\, or a cup of tea in our kitchen. \nwith EBMC Staff \nSundays \n4 – 6 PM Pacific Time \nEBMC is a fragrance-free center and is wheelchair accessible. N95/KN95 masks required. \nNote: Due to capacity limitations of our small staff\, we may occasionally need to shorten or cancel open hours.  We will do our best to give as much advanced notice as possible.  Thank you for your understanding.
URL:https://eastbaymeditation.org/calendar/center-open-hours-3/2025-02-23/
LOCATION:East Bay Meditation Center\, 285 17th Street\, Oakland\, CA\, 94612\, United States
CATEGORIES:In-Person Only
GEO:37.8050656;-122.2660299
X-APPLE-STRUCTURED-LOCATION;VALUE=URI;X-ADDRESS=East Bay Meditation Center 285 17th Street Oakland CA 94612 United States;X-APPLE-RADIUS=500;X-TITLE=285 17th Street:geo:-122.2660299,37.8050656
END:VEVENT
BEGIN:VEVENT
DTSTART;TZID=America/Los_Angeles:20250225T110000
DTEND;TZID=America/Los_Angeles:20250225T130000
DTSTAMP:20260420T131238
CREATED:20240813T181815Z
LAST-MODIFIED:20250703T040131Z
UID:10010242-1740481200-1740488400@eastbaymeditation.org
SUMMARY:Center Open Hours
DESCRIPTION:We welcome you to drop by the center for unguided silent practice\, our library\, or a cup of tea in our kitchen. \nwith EBMC Staff \nDaytime: Tuesday & Thursday \n11 AM – 1 PM Pacific Time \nEBMC is a fragrance-free center and is wheelchair accessible. N95/KN95 masks required. \nNote: Due to capacity limitations of our small staff\, we may occasionally need to shorten or cancel open hours.  We will do our best to give as much advanced notice as possible.  Thank you for your understanding.
URL:https://eastbaymeditation.org/calendar/center-open-hours/2025-02-25/
LOCATION:East Bay Meditation Center\, 285 17th Street\, Oakland\, CA\, 94612\, United States
CATEGORIES:In-Person Only
GEO:37.8050656;-122.2660299
X-APPLE-STRUCTURED-LOCATION;VALUE=URI;X-ADDRESS=East Bay Meditation Center 285 17th Street Oakland CA 94612 United States;X-APPLE-RADIUS=500;X-TITLE=285 17th Street:geo:-122.2660299,37.8050656
END:VEVENT
BEGIN:VEVENT
DTSTART;TZID=America/Los_Angeles:20250227T110000
DTEND;TZID=America/Los_Angeles:20250227T130000
DTSTAMP:20260420T131238
CREATED:20240813T182009Z
LAST-MODIFIED:20250703T040956Z
UID:10010285-1740654000-1740661200@eastbaymeditation.org
SUMMARY:Center Open Hours
DESCRIPTION:We welcome you to drop by the center for unguided silent practice\, our library\, or a cup of tea in our kitchen. \nwith EBMC Staff \nDaytime: Tuesday & Thursday \n11 AM – 1 PM Pacific Time \nEBMC is a fragrance-free center and is wheelchair accessible. N95/KN95 masks required. \nNote: Due to capacity limitations of our small staff\, we may occasionally need to shorten or cancel open hours.  We will do our best to give as much advanced notice as possible.  Thank you for your understanding.
URL:https://eastbaymeditation.org/calendar/center-open-hours-2/2025-02-27/
LOCATION:East Bay Meditation Center\, 285 17th Street\, Oakland\, CA\, 94612\, United States
CATEGORIES:In-Person Only
GEO:37.8050656;-122.2660299
X-APPLE-STRUCTURED-LOCATION;VALUE=URI;X-ADDRESS=East Bay Meditation Center 285 17th Street Oakland CA 94612 United States;X-APPLE-RADIUS=500;X-TITLE=285 17th Street:geo:-122.2660299,37.8050656
END:VEVENT
END:VCALENDAR