BEGIN:VCALENDAR
VERSION:2.0
PRODID:-//East Bay Meditation Center - ECPv6.15.5//NONSGML v1.0//EN
CALSCALE:GREGORIAN
METHOD:PUBLISH
X-WR-CALNAME:East Bay Meditation Center
X-ORIGINAL-URL:https://eastbaymeditation.org
X-WR-CALDESC:Events for East Bay Meditation Center
REFRESH-INTERVAL;VALUE=DURATION:PT1H
X-Robots-Tag:noindex
X-PUBLISHED-TTL:PT1H
BEGIN:VTIMEZONE
TZID:America/Los_Angeles
BEGIN:DAYLIGHT
TZOFFSETFROM:-0800
TZOFFSETTO:-0700
TZNAME:PDT
DTSTART:20240310T100000
END:DAYLIGHT
BEGIN:STANDARD
TZOFFSETFROM:-0700
TZOFFSETTO:-0800
TZNAME:PST
DTSTART:20241103T090000
END:STANDARD
END:VTIMEZONE
BEGIN:VEVENT
DTSTART;TZID=America/Los_Angeles:20241108T190000
DTEND;TZID=America/Los_Angeles:20241108T190000
DTSTAMP:20260424T052019
CREATED:20240716T191611Z
LAST-MODIFIED:20240825T024420Z
UID:10010211-1731092400-1731092400@eastbaymeditation.org
SUMMARY:Love\, Power and Liberation: A Fundraiser for EBMC with Angela Davis and Lama Rod Owens
DESCRIPTION:REGISTER HERE
URL:https://eastbaymeditation.org/calendar/love-power-and-liberation-a-fundraiser-for-ebmc-with-angela-davis-and-lama-rod-owens/
LOCATION:Scottish Rites
CATEGORIES:Fundraising Events
END:VEVENT
END:VCALENDAR