BEGIN:VCALENDAR
VERSION:2.0
PRODID:-//East Bay Meditation Center - ECPv6.15.5//NONSGML v1.0//EN
CALSCALE:GREGORIAN
METHOD:PUBLISH
X-WR-CALNAME:East Bay Meditation Center
X-ORIGINAL-URL:https://eastbaymeditation.org
X-WR-CALDESC:Events for East Bay Meditation Center
REFRESH-INTERVAL;VALUE=DURATION:PT1H
X-Robots-Tag:noindex
X-PUBLISHED-TTL:PT1H
BEGIN:VTIMEZONE
TZID:America/Los_Angeles
BEGIN:DAYLIGHT
TZOFFSETFROM:-0800
TZOFFSETTO:-0700
TZNAME:PDT
DTSTART:20260308T100000
END:DAYLIGHT
BEGIN:STANDARD
TZOFFSETFROM:-0700
TZOFFSETTO:-0800
TZNAME:PST
DTSTART:20261101T090000
END:STANDARD
END:VTIMEZONE
BEGIN:VEVENT
DTSTART;TZID=America/Los_Angeles:20260420T183000
DTEND;TZID=America/Los_Angeles:20260420T203000
DTSTAMP:20260420T021802
CREATED:20260127T044905Z
LAST-MODIFIED:20260127T182550Z
UID:10011882-1776709800-1776717000@eastbaymeditation.org
SUMMARY:IN PERSON: Finding Liberation in Relationship for BIPOC
DESCRIPTION:Finding Liberation in Relationship for BIPOC \nWith Regent Brown and René Rivera \n4 Monday evenings: April 20\, 27\, May 4\, 11 \n6:30-8:30pm PT \nIn person only at 285 17th St.\, Oakland CA 94612 \nMasking is strongly encouraged \nThe center is fragrance-free and wheelchair accessible \n  \nThis popular class series is back again this year for BIPOC only\, and we need it more than ever! As systems collapse\, our relationships are a crucial refuge. For us\, as  people of color\, our friendships\, partnerships\, family and communities can be a source of joy and support\, and also of struggle and suffering. In this four week class we will explore concrete practices grounded in Buddhist meditation\, somatics\, and transformative justice to bring more choice and agency to our relationships with ourselves and others. \nThrough turning towards the delight and difficulty in our relationships we will build resource and resilience and create space to be our most authentic selves in our relationships and in the larger world. Our world is falling apart\, conflict is rising and our freedoms are being taken away\, together we will turn our attention to find our ground in our beloved communities. \n  \n\n\n\n\nCost \nThe teachings are regarded as priceless. So they are offered without a fee. You are invited to support the teachings and our efforts by contributing voluntary donations (the practice of “Dana”) for the expenses of the meditation center and the support of the teachers. \nThe ticket prices are listed as different tiers with suggested donations based on income ranges. For those who wish to give more\, you may choose an “add-on” to your ticket. For those unable to give\, there is an option for that. \nNote that all financial gifts received here go directly to EBMC\, and we invite you to give separately to our teachers\, using the information below. \n  \nOther ways to give: \nTo make a gift to sustain the work of East Bay Meditation Center\, you may do so via Paypal: paypal.me/eastbaymeditation or our website: eastbaymeditation.org/dana 100% of our programming is sliding scale and no one will ever be turned away for lack of funds. \nPlease also consider giving a financial gift to our teachers as well\, who do not receive a salary for their work\, and give their teachings freely to all. \nThank you for the gifts of your generosity and for supporting the work of East Bay Meditation Center and our beloved teachers who have volunteered their time. \nRegent Brown\nVenmo: @Regent-Brown\nCashApp: $RegentBrown \nRené Rivera\nVenmo: @ReneRivera\nPayPal:  https://www.paypal.com/paypalme/ReneRiveraOak \n  \nFor in-person participation: \nWe strongly encourage masking for all who are able to do so. We will provide N95 masks at the center if you don’t have one. \nTo attend in person\, you need to be completely free of fragranced body and clothing products — more information and a list of fragrance free products\, including those that are especially good for people of color\, appears on our website: https://eastbaymeditation.org/resources/fragrance-free-at-ebmc/ \nEast Bay Meditation Center is a scent free / fragrance free space and is wheelchair accessible. \n  \nPublic Transportation/Parking: \n– We strongly encourage public transportation/biking/walking since parking in the neighborhood is limited. \n– EBMC has bike parking inside the center. \n– Please note that parking meters are enforced Monday – Saturday\, 8 am – 6 pm\, and Sunday 12-6pm. \n\n \n\n\n\nTeachers\n \nRegent Brown (Queen) is a biracial Afro-Indigenous\, disabled\, two-spirit womxn who has been practicing the Dharma since 2016 and part of the East Bay Meditation Center (EBMC) community of practice since 2018. Regent’s story has had many twists including surviving cancer twice\, relocating during the pandemic\, and being married for over a decade. And these twists have only deepened Regent’s passion for liberatory practices in the dharma. Regent supports liberation and decolonization as a coach\, circle keeper\, trainer\, healer\, facilitator\, and participant in interdependent community wellness.  As a recent graduate of the inaugural Freedom Together Mindfulness Teacher Program\, and a current member of Spirit Rock’s Community Dharma Leaders program\, Regent joins a bountiful group of BIPOC mindfulness teachers working to weave decolonized practices through their work\, relationships\, and communities.  Regent’s other practices of manifesting joy include karaoke\, goats\, traveling to photograph sunsets\, gardening\, and discovering small parks while walking her 7 year old Corgi mix pup\, Perkelsnertz. \n \nRené Rivera (he\, him) is a meditation teacher and restorative justice facilitator working and learning in all the spaces in-between race\, gender\, and other perceived binaries\, as a queer Latinx trans man. René teaches heart-centered\, trauma-informed meditation\, as a core teacher at the East Bay Meditation Center. He has co-led the first residential meditation retreats for transgender\, nonbinary and gender expansive people\, and offers classes and retreats for many Buddhist centers and groups. René is a restorative justice facilitator\, working to heal sexual and gender based violence.
URL:https://eastbaymeditation.org/calendar/in-person-finding-liberation-in-relationship-for-bipoc/2026-04-20/
LOCATION:East Bay Meditation Center\, 285 17th Street\, Oakland\, CA\, 94612\, United States
CATEGORIES:Classes,In-Person Only
GEO:37.8050656;-122.2660299
X-APPLE-STRUCTURED-LOCATION;VALUE=URI;X-ADDRESS=East Bay Meditation Center 285 17th Street Oakland CA 94612 United States;X-APPLE-RADIUS=500;X-TITLE=285 17th Street:geo:-122.2660299,37.8050656
END:VEVENT
END:VCALENDAR